BEGIN:VCALENDAR
VERSION:2.0
CALSCALE:GREGORIAN
PRODID:adamgibbons/ics
METHOD:PUBLISH
X-PUBLISHED-TTL:PT1H
BEGIN:VEVENT
UID:155@events.revolutionomaha.net
SUMMARY:Food Not Bombs Distribution FREE FOOD
DTSTAMP:20260422T085256Z
DTSTART:20260426T190000Z
DTEND:20260426T193000Z
URL:https://events.revolutionomaha.net/event/food-not-bombs-distribution-fr
	ee-food-50
GEO:41.2574767;-95.9344035
LOCATION:14th and Farnam - Farnam Street\, The Old Market\, Omaha\, Douglas
	 County\, Nebraska\, 68132\, United States
STATUS:CONFIRMED
CATEGORIES:food-not-bombs,mutual-aid
END:VEVENT
END:VCALENDAR
